BEGIN:VCALENDAR
VERSION:2.0
PRODID:-//Pável Ágoston Múzeum//NONSGML kigkonsult.se iCalcreator 2.30.10//
CALSCALE:GREGORIAN
METHOD:PUBLISH
UID:0fa3c4dc-8e87-4144-bc26-e610c996d273
X-WR-CALNAME:iCagenda
X-WR-CALDESC:Event Management Extension for Joomla!
X-WR-RELCALID:3E26604A-50F4-4449-8B3E-E4F4932D05B5
X-WR-TIMEZONE:UTC
BEGIN:VTIMEZONE
TZID:UTC
END:VTIMEZONE
BEGIN:VEVENT
UID:13dc21cb-0e30-42b5-9d7a-ebb55620c0c7
DTSTAMP:20260419T123550Z
CATEGORIES:Könyvbemutató
CLASS:PUBLIC
DESCRIPTION;ALTREP="CID:<FFFF__=0ABBE548DFE235B58f9e8a93d@coffeebean.com>":
 Szeretettel várunk minden kedves érdeklődőt!
DTSTART:20230522T170000Z
DTEND:20230522T170000Z
GEO:+46.955673;+16.271744
LOCATION:Pável Ágoston Múzeum\, Szentgotthárd
ORGANIZER:
SEQUENCE:1
SUMMARY:Mesélő házak
TRANSP:OPAQUE
URL:https://sztgmuzeum.pkapu.hu/hu/component/icagenda/1-mes%C3%A9l%C5%91-h%
 C3%A1zak/2023-05-22-17-00
END:VEVENT
END:VCALENDAR
