BEGIN:VCALENDAR
VERSION:2.0
PRODID:-//Pável Ágoston Múzeum//NONSGML kigkonsult.se iCalcreator 2.30.10//
CALSCALE:GREGORIAN
METHOD:PUBLISH
UID:4dc5c089-bd8c-4fdd-b08c-ee4ef965e8a3
X-WR-CALNAME:iCagenda
X-WR-CALDESC:Event Management Extension for Joomla!
X-WR-RELCALID:3E26604A-50F4-4449-8B3E-E4F4932D05B5
X-WR-TIMEZONE:UTC
BEGIN:VTIMEZONE
TZID:UTC
END:VTIMEZONE
BEGIN:VEVENT
UID:c5f07586-291e-42a2-9c75-2b7c40b0e740
DTSTAMP:20260419T144313Z
CATEGORIES:Rendezvény
CLASS:PUBLIC
DESCRIPTION;ALTREP="CID:<FFFF__=0ABBE548DFE235B58f9e8a93d@coffeebean.com>":
 Szeretettel várjuk az érdeklődőket 2024. január 16-án 17 órára\, a 'A múlt
 nak kútja' előadás-sorozat első alkalmára.\n&nbsp\;'Kérdőjelek és fehér fo
 ltok Szentgotthárd történetében'&nbsp\; címmel Horváth Zsuzsanna előadását
  hallgathatják meg az érdeklődők.
DTSTART:20240116T170000Z
DTEND:20240116T170000Z
GEO:+46.955673;+16.271744
LOCATION:Szentgotthárd\, Pável Ágoston Múzeum
ORGANIZER:
SEQUENCE:1
SUMMARY:Kérdőjelek és fehér foltok...
TRANSP:OPAQUE
URL:https://sztgmuzeum.pkapu.hu/hu/component/icagenda/14-kerdojelek-es-fehe
 r-foltok/2024-01-16-17-00
END:VEVENT
END:VCALENDAR
