BEGIN:VCALENDAR
VERSION:2.0
PRODID:-//Pável Ágoston Múzeum//NONSGML kigkonsult.se iCalcreator 2.30.10//
CALSCALE:GREGORIAN
METHOD:PUBLISH
UID:3d692339-d6d5-43c9-887f-fa783c7843c2
X-WR-CALNAME:iCagenda
X-WR-CALDESC:Event Management Extension for Joomla!
X-WR-RELCALID:3E26604A-50F4-4449-8B3E-E4F4932D05B5
X-WR-TIMEZONE:UTC
BEGIN:VTIMEZONE
TZID:UTC
END:VTIMEZONE
BEGIN:VEVENT
UID:14fe18bc-e817-4f9d-97ee-95afd0f0741a
DTSTAMP:20260419T143809Z
CATEGORIES:Rendezvény
CLASS:PUBLIC
DESCRIPTION;ALTREP="CID:<FFFF__=0ABBE548DFE235B58f9e8a93d@coffeebean.com>":
 ' A múltnak kútja' című 4 előadásból álló sorozatra várja az érdeklődőket 
 a Honismereti Klub a Pável Ágoston Múzeumba.
DTSTART:20240116T170000Z
DTEND:20240116T170000Z
GEO:+46.955673;+16.271744
LOCATION:Szentgotthárd\, Pável Ágoston Múzeum
ORGANIZER:
SEQUENCE:1
SUMMARY:A múltnak kútja
TRANSP:OPAQUE
URL:https://sztgmuzeum.pkapu.hu/hu/component/icagenda/15-a-multnak-kutja/20
 24-01-16-17-00
END:VEVENT
END:VCALENDAR
