BEGIN:VCALENDAR
VERSION:2.0
PRODID:-//Pável Ágoston Múzeum//NONSGML kigkonsult.se iCalcreator 2.30.10//
CALSCALE:GREGORIAN
METHOD:PUBLISH
UID:54eba3f2-6925-4489-92be-63110129bbf1
X-WR-CALNAME:iCagenda
X-WR-CALDESC:Event Management Extension for Joomla!
X-WR-RELCALID:3E26604A-50F4-4449-8B3E-E4F4932D05B5
X-WR-TIMEZONE:UTC
BEGIN:VTIMEZONE
TZID:UTC
END:VTIMEZONE
BEGIN:VEVENT
UID:46b859c4-a1f0-4ea0-8fbe-91eb62546b17
DTSTAMP:20260419T130057Z
CATEGORIES:Rendezvény
CLASS:PUBLIC
DESCRIPTION;ALTREP="CID:<FFFF__=0ABBE548DFE235B58f9e8a93d@coffeebean.com>":
 ' A múltnak kútja' című 4 előadásból álló sorozatra várja az érdeklődőket 
 a Honismereti Klub a Pável Ágoston Múzeumba.
DTSTART:20240213T170000Z
DTEND:20240213T170000Z
GEO:+46.955673;+16.271744
LOCATION:Szentgotthárd\, Pável Ágoston Múzeum
ORGANIZER:
SEQUENCE:1
SUMMARY:A múltnak kútja
TRANSP:OPAQUE
URL:https://sztgmuzeum.pkapu.hu/hu/component/icagenda/15-a-multnak-kutja/20
 24-02-13-17-00
END:VEVENT
END:VCALENDAR
