BEGIN:VCALENDAR
VERSION:2.0
PRODID:-//Pável Ágoston Múzeum//NONSGML kigkonsult.se iCalcreator 2.30.10//
CALSCALE:GREGORIAN
METHOD:PUBLISH
UID:898837b2-c10a-41f4-8e4f-01f75e7edc4c
X-WR-CALNAME:iCagenda
X-WR-CALDESC:Event Management Extension for Joomla!
X-WR-RELCALID:3E26604A-50F4-4449-8B3E-E4F4932D05B5
X-WR-TIMEZONE:UTC
BEGIN:VTIMEZONE
TZID:UTC
END:VTIMEZONE
BEGIN:VEVENT
UID:c9eeeb51-ee8e-4b93-b8e6-80bc9140a7a8
DTSTAMP:20260419T130624Z
CATEGORIES:Rendezvény
CLASS:PUBLIC
DESCRIPTION;ALTREP="CID:<FFFF__=0ABBE548DFE235B58f9e8a93d@coffeebean.com>":
 Szeretettel várjuk az érdeklődőket 2024. február 13-án 17 órára\, a 'A múl
 tnak kútja' előadás-sorozat 2. alkalmára.
DTSTART:20240213T170000Z
DTEND:20240213T170000Z
GEO:+46.955673;+16.271744
LOCATION:Szentgotthárd\, Pável Ágoston Múzeum
ORGANIZER:
SEQUENCE:1
SUMMARY:A szentgotthárdi apátság alapítása és előzményei
TRANSP:OPAQUE
URL:https://sztgmuzeum.pkapu.hu/hu/component/icagenda/16-a-szentgotthardi-a
 patsag-alapitasa-es-elozmenyei/2024-02-13-17-00
END:VEVENT
END:VCALENDAR
