BEGIN:VCALENDAR
VERSION:2.0
PRODID:-//Pável Ágoston Múzeum//NONSGML kigkonsult.se iCalcreator 2.30.10//
CALSCALE:GREGORIAN
METHOD:PUBLISH
UID:ac0360b2-2afa-4975-99cc-128e024c5da9
X-WR-CALNAME:iCagenda
X-WR-CALDESC:Event Management Extension for Joomla!
X-WR-RELCALID:3E26604A-50F4-4449-8B3E-E4F4932D05B5
X-WR-TIMEZONE:UTC
BEGIN:VTIMEZONE
TZID:UTC
END:VTIMEZONE
BEGIN:VEVENT
UID:22670464-b4c6-44f4-a562-eb78c5efb6f2
DTSTAMP:20260419T155515Z
CATEGORIES:Múzeumok éjszakája
CLASS:PUBLIC
DESCRIPTION;ALTREP="CID:<FFFF__=0ABBE548DFE235B58f9e8a93d@coffeebean.com>":
 A Múzeumok éjszakája program keretében ingyenes múzeumlátogatással és tárl
 atvezetéssel várjuk az érdeklődőket.\n&nbsp\;2023. június 23-án 13.00 - 22
 .00 között\, 24-én pedig 10.00 - 15.00 között fedezze fel velünk múzeumunk
  kincseit.
DTSTART:20230624T100000Z
DTEND:20230624T100000Z
GEO:+46.955673;+16.271744
LOCATION:Szentgotthárd\, Pável Ágoston Múzeum
ORGANIZER:
SEQUENCE:1
SUMMARY:Ingyenes múzeumlátogatás
TRANSP:OPAQUE
URL:https://sztgmuzeum.pkapu.hu/hu/component/icagenda/2-ingyenes-muzeumlato
 gatas/2023-06-24-10-00
END:VEVENT
END:VCALENDAR
