BEGIN:VCALENDAR
VERSION:2.0
PRODID:-//Pável Ágoston Múzeum//NONSGML kigkonsult.se iCalcreator 2.30.10//
CALSCALE:GREGORIAN
METHOD:PUBLISH
UID:8e675e79-3644-4311-bc1d-b4edf5f333ea
X-WR-CALNAME:iCagenda
X-WR-CALDESC:Event Management Extension for Joomla!
X-WR-RELCALID:3E26604A-50F4-4449-8B3E-E4F4932D05B5
X-WR-TIMEZONE:UTC
BEGIN:VTIMEZONE
TZID:UTC
END:VTIMEZONE
BEGIN:VEVENT
UID:fca2e70d-b123-4c2b-9108-ad4590ef2f60
DTSTAMP:20260419T173726Z
CATEGORIES:Megnyító
CLASS:PUBLIC
DESCRIPTION:
DTSTART:20230727T170000Z
DTEND:20230727T170000Z
GEO:+46.955132;+16.275036
LOCATION:Szentgotthárd\, Színház
ORGANIZER:
SEQUENCE:1
SUMMARY:Csuk Ferenc és Herczeg János Emlékkiállítás
TRANSP:OPAQUE
URL:https://sztgmuzeum.pkapu.hu/hu/component/icagenda/7-csuk-ferenc-es-herc
 zeg-janos-emlekkiallitas/2023-07-27-17-00
END:VEVENT
END:VCALENDAR
