BEGIN:VCALENDAR
VERSION:2.0
PRODID:-//Pável Ágoston Múzeum//NONSGML kigkonsult.se iCalcreator 2.30.10//
CALSCALE:GREGORIAN
METHOD:PUBLISH
UID:7d8494ae-5ae0-4f7a-bfa4-a2ccc21e37af
X-WR-CALNAME:iCagenda
X-WR-CALDESC:Event Management Extension for Joomla!
X-WR-RELCALID:3E26604A-50F4-4449-8B3E-E4F4932D05B5
X-WR-TIMEZONE:UTC
BEGIN:VTIMEZONE
TZID:UTC
END:VTIMEZONE
BEGIN:VEVENT
UID:e1f8ec1d-2a24-459a-ab7a-2f15ccd59819
DTSTAMP:20260419T220153Z
CATEGORIES:Megnyító
CLASS:PUBLIC
DESCRIPTION;ALTREP="CID:<FFFF__=0ABBE548DFE235B58f9e8a93d@coffeebean.com>":
 A Móra Ferenc Városi Könyvtár és Múzeum\,valamint a Honismereti Klub szere
 tettel meghívjaa Város született című kiállítás megnyitójára\n2023. augusz
 tus 18-án 17 óráraSzentgotthárdon aPolgármesteri Hivatal előcsarnokába.\nK
 öszöntőt mond Huszár Gábor polgármester.A kiállítást Szép Renáta mutatja b
 e.
DTSTART:20230818T170000Z
DTEND:20230818T170000Z
GEO:+46.954384;+16.274906
LOCATION:Szentgotthárd\, Polgármesteri Hivatal előcsarnoka
ORGANIZER:
SEQUENCE:1
SUMMARY:Város született című kiállítás megnyitója
TRANSP:OPAQUE
URL:https://sztgmuzeum.pkapu.hu/hu/component/icagenda/8-varos-szuletett-cim
 u-kiallitas-megnyitoja/2023-08-18-17-00
END:VEVENT
END:VCALENDAR
