BEGIN:VCALENDAR
VERSION:2.0
PRODID:-//Pável Ágoston Múzeum//NONSGML kigkonsult.se iCalcreator 2.30.10//
CALSCALE:GREGORIAN
METHOD:PUBLISH
UID:ae77693c-d0dd-4121-aca4-3ae0e630abe6
X-WR-CALNAME:iCagenda
X-WR-CALDESC:Event Management Extension for Joomla!
X-WR-RELCALID:3E26604A-50F4-4449-8B3E-E4F4932D05B5
X-WR-TIMEZONE:UTC
BEGIN:VTIMEZONE
TZID:UTC
END:VTIMEZONE
BEGIN:VEVENT
UID:34c8169a-cbd9-4b94-95b8-2aa769bde23f
DTSTAMP:20260419T221250Z
CATEGORIES:Könyvbemutató
CLASS:PUBLIC
DESCRIPTION;ALTREP="CID:<FFFF__=0ABBE548DFE235B58f9e8a93d@coffeebean.com>":
 A Szentgotthárdi Honismereti Klub és a Szülőföld Kiadó&nbsp\;szeretettel m
 eghívja\nCsuk Alajos Szentgotthárd sportjának 135 éve\ncímű könyvének bemu
 tatójára\n2023. augusztus 18-án 18 órára a Színház aulájába(Szentgotthárd\
 , Széll Kálmán tér 7.)\nKöszöntőt mond Huszár Gábor polgármester.\nDr. Fra
 nk Róza szerkesztő beszél a könyv keletkezéséről.&nbsp\;A kötetet Kovács L
 ászló nyugalmazott sportvezető mutatja be.Farkas Csaba a Szentgotthárdról 
 szóló könyvekkiadásával kapcsolatos tapasztalatait osztja meg.\nA bemutató
 n a könyvet meg lehet vásárolni.A kötet ára csak ezen a napon 3500 Ft.
DTSTART:20230818T180000Z
DTEND:20230818T180000Z
GEO:+46.955132;+16.275036
LOCATION:Szentgotthárd\, Színház
ORGANIZER:
SEQUENCE:1
SUMMARY:Csuk Alajos - Szentgotthárd sportjának 135 éve című könyvének bemut
 atója
TRANSP:OPAQUE
URL:https://sztgmuzeum.pkapu.hu/hu/component/icagenda/9-csuk-alajos-szentgo
 tthard-sportjanak-135-eve-cimu-konyvenek-bemutatoja/2023-08-18-18-00
END:VEVENT
END:VCALENDAR
