BEGIN:VCALENDAR
VERSION:2.0
PRODID:-//Pável Ágoston Múzeum//NONSGML kigkonsult.se iCalcreator 2.30.10//
CALSCALE:GREGORIAN
METHOD:PUBLISH
UID:31e04c44-57bd-4c06-99d5-5a72fd83827d
X-WR-CALNAME:iCagenda
X-WR-CALDESC:Event Management Extension for Joomla!
X-WR-RELCALID:3E26604A-50F4-4449-8B3E-E4F4932D05B5
X-WR-TIMEZONE:UTC
BEGIN:VTIMEZONE
TZID:UTC
END:VTIMEZONE
BEGIN:VEVENT
UID:024b0a8e-8237-4fd8-9744-4518c9b21ce9
DTSTAMP:20260419T222437Z
CATEGORIES:Honismeret
CLASS:PUBLIC
DESCRIPTION;ALTREP="CID:<FFFF__=0ABBE548DFE235B58f9e8a93d@coffeebean.com>":
 Kedves Érdeklődő!Folytatódik a Murabával közösen szervezett Városi séták s
 orozat. Az első a Brenner-út volt\, most a vendéglátós séta lesz\, majd a 
 halottak napja környékén a temetői séta lesz.Akinek van kedve\, ideje\, jö
 jjön szept. 1-jén\, pénteken 5-kor!
DTSTART:20230901T170000Z
DTEND:20230901T170000Z
GEO:+46.952114;+16.270321
LOCATION:Zöldfa Söröző Pizzéria és Kisvendéglő
ORGANIZER:
SEQUENCE:1
SUMMARY:Vendéglátóhelyek nyomában
TRANSP:OPAQUE
URL:https://sztgmuzeum.pkapu.hu/sl/component/icagenda/10-vendeglatohelyek-n
 yomaban/2023-09-01-17-00
END:VEVENT
END:VCALENDAR
