BEGIN:VCALENDAR
VERSION:2.0
PRODID:-//Pável Ágoston Múzeum//NONSGML kigkonsult.se iCalcreator 2.30.10//
CALSCALE:GREGORIAN
METHOD:PUBLISH
UID:d9e90ff2-e951-4375-bb09-4a4b6e7955f7
X-WR-CALNAME:iCagenda
X-WR-CALDESC:Event Management Extension for Joomla!
X-WR-RELCALID:3E26604A-50F4-4449-8B3E-E4F4932D05B5
X-WR-TIMEZONE:UTC
BEGIN:VTIMEZONE
TZID:UTC
END:VTIMEZONE
BEGIN:VEVENT
UID:e8143698-2957-4404-ba2f-e21c5891afd9
DTSTAMP:20260419T222437Z
CATEGORIES:Narodno znanje
CLASS:PUBLIC
DESCRIPTION;ALTREP="CID:<FFFF__=0ABBE548DFE235B58f9e8a93d@coffeebean.com>":
 Spoštovani Povpraševalec!Serija City Walks\, ki jo organiziramo skupaj z M
 urabo\, se nadaljuje. Prva je bila Brennerska cesta\, zdaj bo gostinski sp
 rehod\, nato okoli dneva mrtvih bo sprehod po pokopališču.Če imate čas\, p
 ridite september. Petek 1. ob 5!
DTSTART:20230901T170000Z
DTEND:20230901T170000Z
GEO:+46.952114;+16.270321
LOCATION:Zöldfa Söröző Pizzéria és Kisvendéglő
ORGANIZER:
SEQUENCE:1
SUMMARY:V iskanju restavracij
TRANSP:OPAQUE
URL:https://sztgmuzeum.pkapu.hu/sl/component/icagenda/11-v-iskanju-restavra
 cij/2023-09-01-17-00
END:VEVENT
END:VCALENDAR
