BEGIN:VCALENDAR
VERSION:2.0
PRODID:-//Pável Ágoston Múzeum//NONSGML kigkonsult.se iCalcreator 2.30.10//
CALSCALE:GREGORIAN
METHOD:PUBLISH
UID:6b458ae0-b366-4a9a-be43-b57aa1886ab6
X-WR-CALNAME:iCagenda
X-WR-CALDESC:Event Management Extension for Joomla!
X-WR-RELCALID:3E26604A-50F4-4449-8B3E-E4F4932D05B5
X-WR-TIMEZONE:UTC
BEGIN:VTIMEZONE
TZID:UTC
END:VTIMEZONE
BEGIN:VEVENT
UID:14e0c535-b6ef-40fd-b31b-0d52ffdf87d4
DTSTAMP:20260419T170002Z
CATEGORIES:Programok
CLASS:PUBLIC
DESCRIPTION;ALTREP="CID:<FFFF__=0ABBE548DFE235B58f9e8a93d@coffeebean.com>":
 Karácsonyi kézműves foglalkozásra várjuk az érdeklődőket 2023. december 16
 -án (szombaton) 9-12 óra között a Pável Ágoston Múzeumba.
DTSTART:20231216T090000Z
DTEND:20231216T120000Z
GEO:+46.955673;+16.271744
LOCATION:Szentgotthárd\, Pável Ágoston Múzeum
ORGANIZER;CN=:muzeum@mfvk.hu
SEQUENCE:1
SUMMARY:Karácsonyi kézműves foglalkozás
TRANSP:OPAQUE
URL:https://sztgmuzeum.pkapu.hu/sl/component/icagenda/12-karacsonyi-kezmuve
 s-foglalkozas-2023
END:VEVENT
END:VCALENDAR
