BEGIN:VCALENDAR
VERSION:2.0
PRODID:-//Pável Ágoston Múzeum//NONSGML kigkonsult.se iCalcreator 2.30.10//
CALSCALE:GREGORIAN
METHOD:PUBLISH
UID:ff35eafd-70de-4273-86e8-3b33f6a344e5
X-WR-CALNAME:iCagenda
X-WR-CALDESC:Event Management Extension for Joomla!
X-WR-RELCALID:3E26604A-50F4-4449-8B3E-E4F4932D05B5
X-WR-TIMEZONE:UTC
BEGIN:VTIMEZONE
TZID:UTC
END:VTIMEZONE
BEGIN:VEVENT
UID:7e2dcda8-9ec5-4b0b-b35e-67b83fe9f426
DTSTAMP:20260419T170053Z
CATEGORIES:Priporočilo programa
CLASS:PUBLIC
DESCRIPTION;ALTREP="CID:<FFFF__=0ABBE548DFE235B58f9e8a93d@coffeebean.com>":
 Božična rokodelska delavnica in igralnica bo 16. decembra 2023 v soboto\, 
 med 9-12 uro v Muzeju Avgusta Pavla.
DTSTART:20231216T090000Z
DTEND:20231216T120000Z
GEO:+46.955673;+16.271744
LOCATION:v Muzeju Avgusta Pavla
ORGANIZER;CN=:muzeum@mfvk.hu
SEQUENCE:1
SUMMARY:Božična rokodelska delavnica
TRANSP:OPAQUE
URL:https://sztgmuzeum.pkapu.hu/sl/component/icagenda/13-bozicna-rokodelska
 -delavnica
END:VEVENT
END:VCALENDAR
