BEGIN:VCALENDAR
VERSION:2.0
PRODID:-//Pável Ágoston Múzeum//NONSGML kigkonsult.se iCalcreator 2.30.10//
CALSCALE:GREGORIAN
METHOD:PUBLISH
UID:01f9da68-e5b2-4476-8192-6af2c72b07a9
X-WR-CALNAME:iCagenda
X-WR-CALDESC:Event Management Extension for Joomla!
X-WR-RELCALID:3E26604A-50F4-4449-8B3E-E4F4932D05B5
X-WR-TIMEZONE:UTC
BEGIN:VTIMEZONE
TZID:UTC
END:VTIMEZONE
BEGIN:VEVENT
UID:777f87af-fb34-4a4d-be31-460db2a0fee3
DTSTAMP:20260419T205815Z
CATEGORIES:Rendezvény
CLASS:PUBLIC
DESCRIPTION;ALTREP="CID:<FFFF__=0ABBE548DFE235B58f9e8a93d@coffeebean.com>":
 2023. október 3-án (kedden) 17 órától kerül megrendezésre Dr. Frank Róza e
 lőadása a Pável Ágoston Múzeumban.\n&nbsp\;'Kalandozások az értékeink közö
 tt' címmel az Országos Könyvtári Napok keretében kerül megrendezésre a múz
 eumban 2023. október 3-án 17 órától Dr. Frank Róza\, a Szentgottháőrdi Tel
 epülési ÉPrtéktár bizottság tagjának interaktív előadása.\nGondolkodjunk k
 özösen: kinek\, mit jelent az érték\, milyen értékek vannak jelen települé
 sünkön\, hogyan gyűjtsük azokat\, hogyan történhet a helyi értékek felvéte
 le a települési értéktárba\, hogyan kapcsolódhatunk be településünk honism
 ereti munkájába. Mindezeket a kérdéseket is - és sok mást is - körüljárja 
 ez a beszélgetős alkalom.
DTSTART:20231003T170000Z
DTEND:20231003T170000Z
GEO:+46.955673;+16.271744
LOCATION:Szentgotthárd\, Pável Ágoston Múzeum
ORGANIZER:
SEQUENCE:1
SUMMARY:Kalandozás az értékeink között
TRANSP:OPAQUE
URL:https://sztgmuzeum.pkapu.hu/sl/component/icagenda/19-kalandozas-az-erte
 keink-kozott/2023-10-03-17-00
END:VEVENT
END:VCALENDAR
