BEGIN:VCALENDAR
VERSION:2.0
PRODID:-//Pável Ágoston Múzeum//NONSGML kigkonsult.se iCalcreator 2.30.10//
CALSCALE:GREGORIAN
METHOD:PUBLISH
UID:6f86274e-593d-4753-b2e0-0d100ca71e7e
X-WR-CALNAME:iCagenda
X-WR-CALDESC:Event Management Extension for Joomla!
X-WR-RELCALID:3E26604A-50F4-4449-8B3E-E4F4932D05B5
X-WR-TIMEZONE:UTC
BEGIN:VTIMEZONE
TZID:UTC
END:VTIMEZONE
BEGIN:VEVENT
UID:25df4459-a210-446b-af1f-5cf981d35e17
DTSTAMP:20260419T180239Z
CATEGORIES:Múzeumok éjszakája
CLASS:PUBLIC
DESCRIPTION;ALTREP="CID:<FFFF__=0ABBE548DFE235B58f9e8a93d@coffeebean.com>":
 A Múzeumok éjszakája program keretében ingyenes múzeumlátogatással és tárl
 atvezetéssel várjuk az érdeklődőket.\n&nbsp\;2023. június 23-án 13.00 - 22
 .00 között\, 24-én pedig 10.00 - 15.00 között fedezze fel velünk múzeumunk
  kincseit.
DTSTART:20230623T130000Z
DTEND:20230623T130000Z
GEO:+46.955673;+16.271744
LOCATION:Szentgotthárd\, Pável Ágoston Múzeum
ORGANIZER:
SEQUENCE:1
SUMMARY:Ingyenes múzeumlátogatás
TRANSP:OPAQUE
URL:https://sztgmuzeum.pkapu.hu/sl/component/icagenda/2-ingyenes-muzeumlato
 gatas/2023-06-23-13-00
END:VEVENT
END:VCALENDAR
