BEGIN:VCALENDAR
VERSION:2.0
PRODID:-//Pável Ágoston Múzeum//NONSGML kigkonsult.se iCalcreator 2.30.10//
CALSCALE:GREGORIAN
METHOD:PUBLISH
UID:5e9a5ef0-ca30-48f7-bc8b-2634dfe36680
X-WR-CALNAME:iCagenda
X-WR-CALDESC:Event Management Extension for Joomla!
X-WR-RELCALID:3E26604A-50F4-4449-8B3E-E4F4932D05B5
X-WR-TIMEZONE:UTC
BEGIN:VTIMEZONE
TZID:UTC
END:VTIMEZONE
BEGIN:VEVENT
UID:f343c355-0e5b-4e2b-b2d7-659793da31ae
DTSTAMP:20260419T162724Z
CATEGORIES:Megnyító
CLASS:PUBLIC
DESCRIPTION;ALTREP="CID:<FFFF__=0ABBE548DFE235B58f9e8a93d@coffeebean.com>":
 Szeretettel várjuk az érdeklődőket 2024. június 22-én (szombaton) 14.00 - 
 19.00 között a Pável Ágoston Múzeumba\, a Múzeumok Éjszakája szentgotthárd
 i programjára.\n&nbsp\;A múzeumba ezen a napon a belépés díjtalan! Várunk 
 kicsiket és nagyokat egyaránt!
DTSTART:20240622T140000Z
DTEND:20240622T190000Z
GEO:+46.955673;+16.271744
LOCATION:Szentgotthárd\, Hunyadi utca 6.
ORGANIZER;CN=:muzeum@mfvk.hu
SEQUENCE:1
SUMMARY:Múzeumok éjszakája 2024
TRANSP:OPAQUE
URL:https://sztgmuzeum.pkapu.hu/sl/component/icagenda/21-muzeumok-ejszakaja
 -2024/2024-06-22-14-00
END:VEVENT
END:VCALENDAR
