BEGIN:VCALENDAR
VERSION:2.0
PRODID:-//Pável Ágoston Múzeum//NONSGML kigkonsult.se iCalcreator 2.30.10//
CALSCALE:GREGORIAN
METHOD:PUBLISH
UID:7646fe1e-c52d-4ceb-a9fc-d75a86bf88de
X-WR-CALNAME:iCagenda
X-WR-CALDESC:Event Management Extension for Joomla!
X-WR-RELCALID:3E26604A-50F4-4449-8B3E-E4F4932D05B5
X-WR-TIMEZONE:UTC
BEGIN:VTIMEZONE
TZID:UTC
END:VTIMEZONE
BEGIN:VEVENT
UID:cfe424cd-2bbf-4fd4-9601-31c831f185b2
DTSTAMP:20260419T175918Z
CATEGORIES:Múzeumok éjszakája
CLASS:PUBLIC
DESCRIPTION;ALTREP="CID:<FFFF__=0ABBE548DFE235B58f9e8a93d@coffeebean.com>":
 Kalandtúrára várjuk a családokat\, baráti társaságokat 2023. június 23-án 
 13.00 - 21.00 között.
DTSTART:20230623T130000Z
DTEND:20230623T210000Z
GEO:+46.955673;+16.271744
LOCATION:Szentgotthárd\, Pável Ágoston Múzeum
ORGANIZER:
SEQUENCE:1
SUMMARY:Kalandtúra a Múzeumok Éjszakáján
TRANSP:OPAQUE
URL:https://sztgmuzeum.pkapu.hu/sl/component/icagenda/3-kalandtura-a-muzeum
 ok-ejszakajan
END:VEVENT
END:VCALENDAR
