BEGIN:VCALENDAR
VERSION:2.0
PRODID:-//Pável Ágoston Múzeum//NONSGML kigkonsult.se iCalcreator 2.30.10//
CALSCALE:GREGORIAN
METHOD:PUBLISH
UID:ad6a926b-82e2-4a62-8f77-f8376a35334c
X-WR-CALNAME:iCagenda
X-WR-CALDESC:Event Management Extension for Joomla!
X-WR-RELCALID:3E26604A-50F4-4449-8B3E-E4F4932D05B5
X-WR-TIMEZONE:UTC
BEGIN:VTIMEZONE
TZID:UTC
END:VTIMEZONE
BEGIN:VEVENT
UID:b88f6340-cfd1-423d-896a-594fabe80bb5
DTSTAMP:20260419T175839Z
CATEGORIES:Múzeumok éjszakája
CLASS:PUBLIC
DESCRIPTION;ALTREP="CID:<FFFF__=0ABBE548DFE235B58f9e8a93d@coffeebean.com>":
 A Múzeumok éjszakája szentgotthárdi programjaira várjuk az érdeklődőket.\n
 Nem csak a gyerekeknek jelent kikapcsolódást gyermekprogramunk. Várjuk a n
 agyobb gyerekeket is.
DTSTART:20230623T150000Z
DTEND:20230623T190000Z
GEO:+46.955673;+16.271744
LOCATION:Szentgotthárd\, Pável Ágoston Múzeum
ORGANIZER:
SEQUENCE:1
SUMMARY:Gyermekkuckó a Múzeumok Éjszakáján
TRANSP:OPAQUE
URL:https://sztgmuzeum.pkapu.hu/sl/component/icagenda/4-gyermekkucko-a-muze
 umok-ejszakajan
END:VEVENT
END:VCALENDAR
