BEGIN:VCALENDAR
VERSION:2.0
PRODID:-//Pável Ágoston Múzeum//NONSGML kigkonsult.se iCalcreator 2.30.10//
CALSCALE:GREGORIAN
METHOD:PUBLISH
UID:718cd668-bc8b-4cdb-af40-ddf83912ad6c
X-WR-CALNAME:iCagenda
X-WR-CALDESC:Event Management Extension for Joomla!
X-WR-RELCALID:3E26604A-50F4-4449-8B3E-E4F4932D05B5
X-WR-TIMEZONE:UTC
BEGIN:VTIMEZONE
TZID:UTC
END:VTIMEZONE
BEGIN:VEVENT
UID:1925a00e-caca-4995-b595-f53110ce94a2
DTSTAMP:20260419T175303Z
CATEGORIES:Múzeumok éjszakája
CLASS:PUBLIC
DESCRIPTION;ALTREP="CID:<FFFF__=0ABBE548DFE235B58f9e8a93d@coffeebean.com>":
 A Múzeumok éjszakája programjaira várjuk a látogatókat 2023. június 23-án 
 a Pável Ágoston Múzeumba. 2023. június 23-án és 24-én a múzeum ingyenesen 
 látogatható.\nAz egyes programelemek részletes leírását folyamatosan tessz
 ük közzé. Kérjük figyeljék honlapunkat és facebook oldalunkat.\nhttps://ww
 w.facebook.com/pavelagostonmuzeum
DTSTART:20230623T130000Z
DTEND:20230624T150000Z
GEO:+46.955673;+16.271744
LOCATION:Szentgotthárd\, Pável Ágoston Múzeum
ORGANIZER:
SEQUENCE:1
SUMMARY:Múzeumok éjszakája programjai
TRANSP:OPAQUE
URL:https://sztgmuzeum.pkapu.hu/sl/component/icagenda/5-muzeumok-ejszakaja-
 programjai
END:VEVENT
END:VCALENDAR
