BEGIN:VCALENDAR
VERSION:2.0
PRODID:-//Pável Ágoston Múzeum//NONSGML kigkonsult.se iCalcreator 2.30.10//
CALSCALE:GREGORIAN
METHOD:PUBLISH
UID:77ead1ca-74fc-4cd6-a327-95da924d823e
X-WR-CALNAME:iCagenda
X-WR-CALDESC:Event Management Extension for Joomla!
X-WR-RELCALID:3E26604A-50F4-4449-8B3E-E4F4932D05B5
X-WR-TIMEZONE:UTC
BEGIN:VTIMEZONE
TZID:UTC
END:VTIMEZONE
BEGIN:VEVENT
UID:c2c5cdbb-d30a-44f4-a362-9df3700b2f64
DTSTAMP:20260419T175303Z
CATEGORIES:Muzejske noči
CLASS:PUBLIC
DESCRIPTION;ALTREP="CID:<FFFF__=0ABBE548DFE235B58f9e8a93d@coffeebean.com>":
 Vabljeni na programe Muzeja Avgusta Pavla ob Muzejski noči 23. in 24. juni
 ja.&nbsp\;(popoldne in pozno v noč ter 24. junija v odpiralnem času.)\nPod
 roben opis programov bomo sproti objavljali. Spremljajte nas na Facebooku 
 ter spletno stran muzeja na spodnjih povezavah:\nhttps://www.facebook.com/
 pavelagostonmuzeum
DTSTART:20230623T130000Z
DTEND:20230624T150000Z
GEO:+46.955673;+16.271744
LOCATION:Monošter\, Muzeja Pávela Ágostona
ORGANIZER:
SEQUENCE:1
SUMMARY:Programi Muzejske noči
TRANSP:OPAQUE
URL:https://sztgmuzeum.pkapu.hu/sl/component/icagenda/6-programi-muzejske-n
 oci
END:VEVENT
END:VCALENDAR
